BEGIN:VCALENDAR
VERSION:2.0
PRODID:-//Plone.org//NONSGML plone.app.event//EN
X-WR-TIMEZONE:Brazil/East
BEGIN:VEVENT
SUMMARY:Escola do Legislativo - Visita Institucional EE Armando Gonçalves
DTSTART;VALUE=DATE-TIME:20260427T110000Z
DTEND;VALUE=DATE-TIME:20260427T130000Z
DTSTAMP;VALUE=DATE-TIME:20260426T012944Z
UID:4joges2prp663700abv6l3q0b4@google.com
ATTENDEE;CN="mailto:camaramiracatu@gmail.com";ROLE=REQ-PARTICIPANT:mailto:
 camaramiracatu@gmail.com
CREATED;VALUE=DATE-TIME:20260416T145533Z
DESCRIPTION:Entrar com o Google Meet: https://meet.google.com/xkd-orjz-cgk
 \nOu disque: (BR) +55 51 4560-7692 PIN: 541846853#\nMais números de telef
 one: https://tel.meet/xkd-orjz-cgk?pin=1709047319024&hs=7\n\nSaiba mais so
 bre o Meet em: https://support.google.com/a/users/answer/9282720
LAST-MODIFIED;VALUE=DATE-TIME:20260416T145733Z
URL:https://www.miracatu.sp.leg.br/institucional/eventos/escola-do-legisla
 tivo-visita-institucional-ee-armando-goncalves
END:VEVENT
BEGIN:VEVENT
SUMMARY:Sessão Ordinária
DTSTART;VALUE=DATE-TIME:20260427T220000Z
DTEND;VALUE=DATE-TIME:20260428T000000Z
DTSTAMP;VALUE=DATE-TIME:20260426T012944Z
UID:63fdhnh4kf4giaacpk31cokaar@google.com
ATTENDEE;CN="mailto:camaramiracatu@gmail.com";ROLE=REQ-PARTICIPANT:mailto:
 camaramiracatu@gmail.com
CREATED;VALUE=DATE-TIME:20260327T191004Z
DESCRIPTION:Entrar com o Google Meet: https://meet.google.com/nqw-njsj-aun
 \nOu disque: (BR) +55 11 4949-0088 PIN: 641269470#\nMais números de telef
 one: https://tel.meet/nqw-njsj-aun?pin=9872077693310&hs=7\n\nSaiba mais so
 bre o Meet em: https://support.google.com/a/users/answer/9282720
LAST-MODIFIED;VALUE=DATE-TIME:20260327T191035Z
URL:https://www.miracatu.sp.leg.br/institucional/eventos/sessao-ordinaria-
 1774638604.44
END:VEVENT
BEGIN:VEVENT
SUMMARY:CREAS/Escola do Legislativo - Palestra Abril Azul/Conscientizaçã
 o do Autismo
DTSTART;VALUE=DATE-TIME:20260428T110000Z
DTEND;VALUE=DATE-TIME:20260428T150000Z
DTSTAMP;VALUE=DATE-TIME:20260426T012944Z
UID:5cgoj9f09d5v1ng8h06u11n9p4@google.com
ATTENDEE;CN="mailto:camaramiracatu@gmail.com";ROLE=REQ-PARTICIPANT:mailto:
 camaramiracatu@gmail.com
CREATED;VALUE=DATE-TIME:20260416T145511Z
DESCRIPTION:Entrar com o Google Meet: https://meet.google.com/buo-ydvb-syc
 \nOu disque: (BR) +55 41 4560-9727 PIN: 321742483#\nMais números de telef
 one: https://tel.meet/buo-ydvb-syc?pin=1711222109880&hs=7\n\nSaiba mais so
 bre o Meet em: https://support.google.com/a/users/answer/9282720
LAST-MODIFIED;VALUE=DATE-TIME:20260416T145535Z
URL:https://www.miracatu.sp.leg.br/institucional/eventos/creas-escola-do-l
 egislativo-palestra-abril-azul-conscientizacao-do-autismo
END:VEVENT
BEGIN:VEVENT
SUMMARY:SEBRAE - Palestra Faça Fluxo de Caixa e saiba para onde vai seu d
 inheiro
DTSTART;VALUE=DATE-TIME:20260429T170000Z
DTEND;VALUE=DATE-TIME:20260429T200000Z
DTSTAMP;VALUE=DATE-TIME:20260426T012944Z
UID:53drrf7n4e0od07retqpmtu2ql@google.com
ATTENDEE;CN="mailto:camaramiracatu@gmail.com";ROLE=REQ-PARTICIPANT:mailto:
 camaramiracatu@gmail.com
CREATED;VALUE=DATE-TIME:20260416T145519Z
DESCRIPTION:Entrar com o Google Meet: https://meet.google.com/jag-kdoe-sjm
 \nOu disque: (BR) +55 41 4560-9815 PIN: 519644221#\nMais números de telef
 one: https://tel.meet/jag-kdoe-sjm?pin=5923940454561&hs=7\n\nSaiba mais so
 bre o Meet em: https://support.google.com/a/users/answer/9282720
LAST-MODIFIED;VALUE=DATE-TIME:20260416T145733Z
URL:https://www.miracatu.sp.leg.br/institucional/eventos/sebrae-palestra-f
 aca-fluxo-de-caixa-e-saiba-para-onde-vai-seu-dinheiro
END:VEVENT
END:VCALENDAR
