BEGIN:VCALENDAR
VERSION:2.0
PRODID:-//Plone.org//NONSGML plone.app.event//EN
X-WR-TIMEZONE:Brazil/East
BEGIN:VEVENT
SUMMARY:Saúde - Capacitação Agente Comunitário de Saúde
DTSTART;VALUE=DATE-TIME:20260424T113000Z
DTEND;VALUE=DATE-TIME:20260424T140000Z
DTSTAMP;VALUE=DATE-TIME:20260419T170342Z
UID:0ttlmh6a056guq8g5h4vl9bdap@google.com
ATTENDEE;CN="mailto:camaramiracatu@gmail.com";ROLE=REQ-PARTICIPANT:mailto:
 camaramiracatu@gmail.com
CREATED;VALUE=DATE-TIME:20260327T190946Z
DESCRIPTION:Entrar com o Google Meet: https://meet.google.com/vph-jdus-ema
 \nOu disque: (BR) +55 21 4560-7671 PIN: 568022778#\nMais números de telef
 one: https://tel.meet/vph-jdus-ema?pin=9151132356826&hs=7\n\nSaiba mais so
 bre o Meet em: https://support.google.com/a/users/answer/9282720
LAST-MODIFIED;VALUE=DATE-TIME:20260327T191055Z
URL:https://www.miracatu.sp.leg.br/institucional/eventos/saude-capacitacao
 -agente-comunitario-de-saude
END:VEVENT
END:VCALENDAR
