BEGIN:VCALENDAR
VERSION:2.0
PRODID:-//Plone.org//NONSGML plone.app.event//EN
X-WR-TIMEZONE:Brazil/East
BEGIN:VEVENT
SUMMARY:Prefeitura Municipal - Treinamento em 1ºs Socorros aos Servidores
  Municipais
DTSTART;VALUE=DATE-TIME:20250808T110000Z
DTEND;VALUE=DATE-TIME:20250808T200000Z
DTSTAMP;VALUE=DATE-TIME:20260420T161801Z
UID:047l2ub03n13esad0hphs0eagb@google.com
ATTENDEE;CN="mailto:camaramiracatu@gmail.com";ROLE=REQ-PARTICIPANT:mailto:
 camaramiracatu@gmail.com
CREATED;VALUE=DATE-TIME:20250805T145629Z
DESCRIPTION:Entrar com o Google Meet: https://meet.google.com/yyj-wegn-uax
 \nOu disque: (BR) +55 19 4560-9805 PIN: 233368421#\nMais números de telef
 one: https://tel.meet/yyj-wegn-uax?pin=8790500769364&hs=7\n\nSaiba mais so
 bre o Meet em: https://support.google.com/a/users/answer/9282720
LAST-MODIFIED;VALUE=DATE-TIME:20250805T145737Z
URL:https://www.miracatu.sp.leg.br/institucional/eventos/prefeitura-munici
 pal-treinamento-em-1os-socorros-aos-servidores-municipais
END:VEVENT
END:VCALENDAR
